Workbook

Sheet LR-lista hel
A1: RRSF LÄNGREPRESENTANTER | E1: 2008 | F1: till | G1: 2025
C3: Juno | E3: Jupiter I | G3: Jupiter II | I3: Mars | K3: Merkurius | M3: Månen | O3: Pallas | Q3: Pluto | S3: Saturnus | U3: Uranus
B4: Hus nr | C4: Fika-ansvariga 2006/ 2016 | D4: Hus nr | E4: Fika-ansvariga 2007/2017 | F4: Hus nr | G4: Fika-ansvariga 2008/2018 | H4: Hus nr | I4: Fika-ansvariga 2009/2019 | J4: Hus nr | K4: Fika-ansvariga 2010/2021 | L4: Hus nr | M4: Fika-ansvariga 2011/2022 | N4: Hus nr | O4: Fika-ansvariga 2012/2023 | P4: Hus nr | Q4: Fika-ansvariga 2013/2024 | R4: Hus nr | S4: Fika-ansvariga 2014/2025 | T4: Hus nr | U4: Fika-ansvariga 2015/2026
A5: 2008 | B5: 6 | C5: Stefan Häll | D5: 13 | E5: Leif Gustavsson | F5: 37 | G5: Kent Nyman | H5: 32 | I5: Magnus Christiansson | J5: 18 | K5: Stefan Andersson | L5: 1 | M5: Ulf Liljekrantz | N5: 1 | O5: Hans Olsson | P5: 5 | Q5: Anders Almgren | R5: 6 | S5: Stig Simonsson | T5: 4 | U5: Mikael Ahlgren
A6: 2009 | B6: 10 | C6: Mats Nordling | D6: 9 | E6: Håkan Hakeröd | F6: 41 | G6: Bengt Ekestubbe | H6: 8 | I6: Jacob Ramnekrok | J6: 26 | K6: Magnus Jacobsson | L6: 15 | M6: Eva Gliniecki | N6: 13 | O6: Sune Färdigh | P6: 1 | Q6: Lena Berg | R6: 2 | S6: Lars Tharing | T6: 14 | U6: Peter Praetorius
A7: 2010 | B7: 12 | C7: Mattias Valkonen | D7: 7 | E7: Mats Rudhag | F7: 43 | G7: Bo Johansson | H7: 4 | I7: Per Bergqvist | J7: 30 | K7: Mats Nyman | L7: 3 | M7: Percy Danielsson | N7: 13 | O7: Sune Färdigh | P7: 11 | Q7: Kristoffer Kinberg | R7: 18 | S7: Inge Andersson | T7: 18 | U7: Mats Björk
A8: 2011 | C8: Andreas Ramström | D8: 5 | E8: Åke Lindgren | F8: 47 | G8: Stefan Töreki | H8: 24 | I8: Rickard Johansson | J8: 32 | K8: Tony Widlund | L8: 5 | M8: Conny Nilsson | N8: 9 | O8: Ove Svedberg | P8: 15 | Q8: David Jantol | R8: 20 | S8: Inger Starman | T8: 12 | U8: Olle Jörneman
A9: 2012 | B9: 16 | C9: Anders Gustavsson | D9: 3 | E9: Jari Mattila | F9: 29 | G9: Fredrik Andersson | H9: 2 | I9: Öysten Berg | J9: 4 | K9: Torbjörn Olsson | L9: 15 | M9: Johan Gliniecki | N9: 15 | O9: Reza Rezai | P9: 3 | Q9: Catherine Lundborg | R9: 14 | S9: Daniel Fornell | T9: 6 | U9: Håkan Jonsson
A10: 2013 | B10: 18 | C10: Anders Emanuelsson | D10: 23 | E10: Ilpo Vailto | F10: 33 | G10: Niklas Berglund | H10: 2 | I10: Öysten Berg | J10: 8 | K10: Håkan Ludvigsson | L10: 16 | M10: Johan Gliniecki | N10: 15 | O10: Linda Olsson | P10: 1 | Q10: Lena Berg | R10: 18 | S10: Inge Andersson | T10: 10 | U10: Linda Ohlsson
A11: 2014 | B11: 4 | C11: Ilija Usinovski | D11: 21 | E11: Agneta Svensson | F11: 37 | G11: Daniela Angjelowska | H11: 6 | I11: Krister Melin | J11: 16 | K11: Per Asketun | L11: 13 | M11: Mikael Gobbato | N11: 1 | O11: Hans Olsson | P11: 3 | Q11: Catherine Lundborg | R11: 16 | S11: Pekka Vailto | T11: 16 | U11: Tomas Johansson
A12: 2015 | B12: 4 | C12: Ilija Usinovski | D12: 19 | E12: Eero Kääpä | F12: 39 | G12: Per-Åke Olsson | H12: 8 | I12: Jacob Ramnekrok | J12: 14 | K12: Johan Nilsson | L12: 11 | M12: Jonny Larsson | N12: 7 | O12: Roland Saniks | P12: 5 | Q12: Anders Almgren | R12: 6 | S12: Stig Simonsson | T12: 18 | U12: Mathias Schenkel
A13: 2016 | B13: 4 | C13: Ilija Usinovski | D13: 21 | E13: Peter Skog | F13: 43 | G13: Bo Johansson | H13: 32 | I13: Magnus Christiansson | J13: 20 | K13: Robert Karlslätt | L13: 17 | M13: Martin Olofsson | N13: 11 | O13: Lars-Erik Staaf | P13: 7 | Q13: Gjore Petkovski | R13: 2 | S13: Lars Tharing | T13: 8 | U13: Sten Kristensen
A14: 2017 | B14: 10 | C14: Martin Dalenius | D14: 17 | E14: Martin Karlsson | F14: 43 | G14: Bo Johansson | H14: 32 | I14: Magnus Christiansson | J14: 10 | K14: Sven-Johan Dahlstrand | L14: 17 | M14: Martin Olofsson | N14: 11 | O14: Lars-Erik Staaf | P14: 9 | Q14: Johan Rohman | R14: 20 | S14: Inger Starman | T14: 4 | U14: Mikael Ahlgren
A15: 2018 | B15: 14 | C15: Niklas Jacobsson | D15: 17 | E15: Martin Karlsson | F15: 45 | G15: Birgitta Ehrenholm | H15: 28 | I15: Stefan Forsinge | J15: 10 | K15: Sven-Johan Dahlstrand | L15: 17 | M15: Martin Olofsson | N15: 11 | O15: Lars-Erik Staaf | P15: 11 | Q15: Kristoffer Kinberg | R15: 18 | S15: Inge Andersson | T15: 2 | U15: Roger Nilsson
A16: 2019 | B16: 16 | C16: Marcus Sköld | D16: 15 | E16: Magnus Lundström | F16: 47 | G16: Stefan Töreki | H16: 26 | I16: Frida Boberg | J16: 10 | K16: Sven-Johan Dahlstrand | L16: 17 | M16: Martin Olofsson | N16: 11 | O16: Lars-Erik Staaf | P16: 15 | Q16: David Jantol | R16: 16 | S16: Pekka Vailto | T16: 14 | U16: Peter Praetorius
A17: 2020 | B17: 16 | C17: Marcus Sköld | D17: 13 | E17: Leif Gustavsson | F17: 29 | G17: Fredrik Andersson | H17: 24 | I17: Anna Fougberg | J17: 10 | K17: Sven-Johan Dahlstrand | L17: 17 | M17: Martin Olofsson | N17: 11 | O17: Lars-Erik Staaf | P17: 17 | Q17: Lars Forsman | R17: 14 | S17: Daniel Fornell | T17: 20 | U17: M.Björk/P Pretorius
A18: 2021 | B18: 18 | C18: Malin Åberg | D18: 11 | E18: Slavko Stojanovski | F18: 33 | G18: Niklas Berglund | H18: 4 | I18: Adam Fors | J18: 10 | K18: Sven-Johan Dahlstrand | L18: 17 | M18: Martin Olofsson | N18: 11 | O18: Lars-Erik Staaf | P18: 15 | Q18: Martin Karlsson | R18: 4 | S18: Robert Eliasson | T18: 12 | U18: Daniel/Malin Frid
A19: 2022 | B19: 18 | C19: Malin Åberg | D19: 9 | E19: Pernilla Hakeröd | F19: 41 | G19: Adam Wessman | H19: 24 | I19: Christoffer Mårtensson | J19: 2 | K19: Kristoffer Hagberg | L19: 17 | M19: Martin Olofsson | N19: 11 | O19: Lars-Erik Staaf | P19: 1 | Q19: Lena Berg | R19: 8 | S19: Beatrice Axelsson | T19: 12 | U19: Daniel/Malin Frid
A20: 2023 | B20: 2 | C20: Emelie Lysberg | D20: 7 | E20: Henriette Rudhag | F20: 43 | G20: Bo Johansson | H20: 24 | I20: Christoffer Mårtensson | J20: 2 | K20: Kristoffer Hagberg | L20: 5 | M20: Anna Klimenko | N20: 11 | O20: Lars-Erik Staaf | P20: 5 | Q20: M. Tekcan/C L-borg | R20: 6 | S20: Stig Simonsson | T20: 10 | U20: Tomas Wlnas
... A22: 2025 | B22: 10 | C22: Liselott Lindell | D22: 3 | E22: Sara Kärrman | F22: 43 | G22: Bo Johansson | H22: 18 | I22: Tommy Åkerblom | J22: 4 | K22: Torbjörn Olsson | L22: 7 | M22: Michael Säf | N22: 3 | O22: Filip Martinsson | P22: 7 | Q22: Gjore Petkovski | R22: 16 | S22: Pekka Vailto | T22: 12 | U22: Andreas Skog

Sheet LR-lista delad
A1: ='LR-lista hel'!A1 -> RRSF LÄNGREPRESENTANTER | G1: ='LR-lista hel'!E1 -> 2008 | H1: ='LR-lista hel'!F1 -> till | I1: ='LR-lista hel'!G1 -> 2025
C3: Juno | E3: Jupiter I | G3: Jupiter II | I3: Mars | K3: Merkurius
B4: Hus nr | C4: Fika-ansvariga 2006/ 2016 | D4: Hus nr | E4: Fika-ansvariga 2007/2017 | F4: Hus nr | G4: Fika-ansvariga 2008/2018 | H4: Hus nr | I4: Fika-ansvariga 2009/2019 | J4: Hus nr | K4: Fika-ansvariga 2010/2021
A5: 2008 | B5: 6 | C5: ='LR-lista hel'!C5 -> Stefan Häll | D5: 13 | E5: ='LR-lista hel'!E5 -> Leif Gustavsson | F5: 37 | G5: ='LR-lista hel'!G5 -> Kent Nyman | H5: 32 | I5: ='LR-lista hel'!I5 -> Magnus Christiansson | J5: 18 | K5: ='LR-lista hel'!K5 -> Stefan Andersson
A6: 2009 | B6: 10 | C6: ='LR-lista hel'!C6 -> Mats Nordling | D6: 9 | E6: ='LR-lista hel'!E6 -> Håkan Hakeröd | F6: 41 | G6: ='LR-lista hel'!G6 -> Bengt Ekestubbe | H6: 8 | I6: ='LR-lista hel'!I6 -> Jacob Ramnekrok | J6: 26 | K6: ='LR-lista hel'!K6 -> Magnus Jacobsson
A7: 2010 | B7: 12 | C7: ='LR-lista hel'!C7 -> Mattias Valkonen | D7: 7 | E7: ='LR-lista hel'!E7 -> Mats Rudhag | F7: 43 | G7: ='LR-lista hel'!G7 -> Bo Johansson | H7: 4 | I7: ='LR-lista hel'!I7 -> Per Bergqvist | J7: 30 | K7: ='LR-lista hel'!K7 -> Mats Nyman
A8: 2011 | C8: ='LR-lista hel'!C8 -> Andreas Ramström | D8: 5 | E8: ='LR-lista hel'!E8 -> Åke Lindgren | F8: 47 | G8: ='LR-lista hel'!G8 -> Stefan Töreki | H8: 24 | I8: ='LR-lista hel'!I8 -> Rickard Johansson | J8: 32 | K8: ='LR-lista hel'!K8 -> Tony Widlund
A9: 2012 | B9: 16 | C9: ='LR-lista hel'!C9 -> Anders Gustavsson | D9: 3 | E9: ='LR-lista hel'!E9 -> Jari Mattila | F9: 29 | G9: ='LR-lista hel'!G9 -> Fredrik Andersson | H9: 2 | I9: ='LR-lista hel'!I9 -> Öysten Berg | J9: 4 | K9: ='LR-lista hel'!K9 -> Torbjörn Olsson
A10: 2013 | B10: 18 | C10: ='LR-lista hel'!C10 -> Anders Emanuelsson | D10: 23 | E10: ='LR-lista hel'!E10 -> Ilpo Vailto | F10: 33 | G10: ='LR-lista hel'!G10 -> Niklas Berglund | H10: 2 | I10: ='LR-lista hel'!I10 -> Öysten Berg | J10: 8 | K10: ='LR-lista hel'!K10 -> Håkan Ludvigsson
A11: 2014 | B11: 4 | C11: ='LR-lista hel'!C11 -> Ilija Usinovski | D11: 21 | E11: ='LR-lista hel'!E11 -> Agneta Svensson | F11: 37 | G11: ='LR-lista hel'!G11 -> Daniela Angjelowska | H11: 6 | I11: ='LR-lista hel'!I11 -> Krister Melin | J11: 16 | K11: ='LR-lista hel'!K11 -> Per Asketun
A12: 2015 | B12: 4 | C12: ='LR-lista hel'!C12 -> Ilija Usinovski | D12: 19 | E12: ='LR-lista hel'!E12 -> Eero Kääpä | F12: 39 | G12: ='LR-lista hel'!G12 -> Per-Åke Olsson | H12: 8 | I12: ='LR-lista hel'!I12 -> Jacob Ramnekrok | J12: 14 | K12: ='LR-lista hel'!K12 -> Johan Nilsson
A13: 2016 | B13: 4 | C13: ='LR-lista hel'!C13 -> Ilija Usinovski | D13: 21 | E13: ='LR-lista hel'!E13 -> Peter Skog | F13: 43 | G13: ='LR-lista hel'!G13 -> Bo Johansson | H13: 32 | I13: ='LR-lista hel'!I13 -> Magnus Christiansson | J13: 20 | K13: ='LR-lista hel'!K13 -> Robert Karlslätt
A14: 2017 | B14: 10 | C14: ='LR-lista hel'!C14 -> Martin Dalenius | D14: 17 | E14: ='LR-lista hel'!E14 -> Martin Karlsson | F14: 43 | G14: ='LR-lista hel'!G14 -> Bo Johansson | H14: 32 | I14: ='LR-lista hel'!I14 -> Magnus Christiansson | J14: 10 | K14: ='LR-lista hel'!K14 -> Sven-Johan Dahlstrand
A15: 2018 | B15: 14 | C15: ='LR-lista hel'!C15 -> Niklas Jacobsson | D15: 17 | E15: ='LR-lista hel'!E15 -> Martin Karlsson | F15: 45 | G15: ='LR-lista hel'!G15 -> Birgitta Ehrenholm | H15: 28 | I15: ='LR-lista hel'!I15 -> Stefan Forsinge | J15: 10 | K15: ='LR-lista hel'!K15 -> Sven-Johan Dahlstrand
A16: 2019 | B16: ='LR-lista hel'!B16 -> 16 | C16: ='LR-lista hel'!C16 -> Marcus Sköld | D16: ='LR-lista hel'!D16 -> 15 | E16: ='LR-lista hel'!E16 -> Magnus Lundström | F16: ='LR-lista hel'!F16 -> 47 | G16: ='LR-lista hel'!G16 -> Stefan Töreki | H16: ='LR-lista hel'!H16 -> 26 | I16: ='LR-lista hel'!I16 -> Frida Boberg | ... K16: ='LR-lista hel'!K16 -> Sven-Johan Dahlstrand
A17: 2020 | B17: ='LR-lista hel'!B17 -> 16 | C17: ='LR-lista hel'!C17 -> Marcus Sköld | D17: ='LR-lista hel'!D17 -> 13 | E17: ='LR-lista hel'!E17 -> Leif Gustavsson | F17: ='LR-lista hel'!F17 -> 29 | G17: ='LR-lista hel'!G17 -> Fredrik Andersson | H17: ='LR-lista hel'!H17 -> 24 | I17: ='LR-lista hel'!I17 -> Anna Fougberg | ... K17: ='LR-lista hel'!K17 -> Sven-Johan Dahlstrand
A18: 2021 | B18: ='LR-lista hel'!B18 -> 18 | C18: ='LR-lista hel'!C18 -> Malin Åberg | D18: ='LR-lista hel'!D18 -> 11 | E18: ='LR-lista hel'!E18 -> Slavko Stojanovski | F18: ='LR-lista hel'!F18 -> 33 | G18: ='LR-lista hel'!G18 -> Niklas Berglund | H18: ='LR-lista hel'!H18 -> 4 | I18: ='LR-lista hel'!I18 -> Adam Fors | ... K18: ='LR-lista hel'!K18 -> Sven-Johan Dahlstrand
A19: 2022 | B19: ='LR-lista hel'!B19 -> 18 | C19: ='LR-lista hel'!C19 -> Malin Åberg | D19: ='LR-lista hel'!D19 -> 9 | E19: ='LR-lista hel'!E19 -> Pernilla Hakeröd | F19: ='LR-lista hel'!F19 -> 41 | G19: ='LR-lista hel'!G19 -> Adam Wessman | H19: ='LR-lista hel'!H19 -> 24 | I19: ='LR-lista hel'!I19 -> Christoffer Mårtensson | ... K19: ='LR-lista hel'!K19 -> Kristoffer Hagberg
A20: 2023 | B20: ='LR-lista hel'!B20 -> 2 | C20: ='LR-lista hel'!C20 -> Emelie Lysberg | D20: ='LR-lista hel'!D20 -> 7 | E20: ='LR-lista hel'!E20 -> Henriette Rudhag | F20: ='LR-lista hel'!F20 -> 43 | G20: ='LR-lista hel'!G20 -> Bo Johansson | H20: ='LR-lista hel'!H20 -> 24 | I20: ='LR-lista hel'!I20 -> Christoffer Mårtensson | ... K20: ='LR-lista hel'!K20 -> Kristoffer Hagberg
A21: 2024 | B21: ='LR-lista hel'!B21 -> 8 | C21: ='LR-lista hel'!C21 -> Tomas Wiberg | D21: ='LR-lista hel'!D21 -> 5 | E21: ='LR-lista hel'!E21 -> Sam Agneesens | F21: ='LR-lista hel'!F21 -> 43 | G21: ='LR-lista hel'!G21 -> Bo Johansson | H21: ='LR-lista hel'!H21 -> 16 | I21: ='LR-lista hel'!I21 -> Farjad Henareh | ... K21: ='LR-lista hel'!K21 -> Kristoffer Hagberg
A22: 2025 | B22: ='LR-lista hel'!B22 -> 10 | C22: ='LR-lista hel'!C22 -> Liselott Lindell | D22: ='LR-lista hel'!D22 -> 3 | E22: ='LR-lista hel'!E22 -> Sara Kärrman | F22: ='LR-lista hel'!F22 -> 43 | G22: ='LR-lista hel'!G22 -> Bo Johansson | H22: ='LR-lista hel'!H22 -> 18 | I22: ='LR-lista hel'!I22 -> Tommy Åkerblom | ... K22: ='LR-lista hel'!K22 -> Torbjörn Olsson
A23: 2026
C28: Månen | E28: Pallas | G28: Pluto | I28: Saturnus | K28: Uranus
B29: Hus nr | C29: Fika-ansvariga 2011/2022 | D29: Hus nr | E29: Fika-ansvariga 2012/2023 | F29: Hus nr | G29: Fika-ansvariga 2013/2024 | H29: Hus nr | I29: Fika-ansvariga 2014/2025 | J29: Hus nr | K29: Fika-ansvariga 2015/2026
A30: 2008 | B30: 1 | C30: ='LR-lista hel'!M5 -> Ulf Liljekrantz | D30: 1 | E30: ='LR-lista hel'!O5 -> Hans Olsson | F30: 5 | G30: ='LR-lista hel'!Q5 -> Anders Almgren | H30: 6 | I30: ='LR-lista hel'!S5 -> Stig Simonsson | J30: 4 | K30: ='LR-lista hel'!U5 -> Mikael Ahlgren
A31: 2009 | B31: 15 | C31: ='LR-lista hel'!M6 -> Eva Gliniecki | D31: 13 | E31: ='LR-lista hel'!O6 -> Sune Färdigh | F31: 1 | G31: ='LR-lista hel'!Q6 -> Lena Berg | H31: 2 | I31: ='LR-lista hel'!S6 -> Lars Tharing | J31: 14 | K31: ='LR-lista hel'!U6 -> Peter Praetorius
A32: 2010 | B32: 3 | C32: ='LR-lista hel'!M7 -> Percy Danielsson | D32: 13 | E32: ='LR-lista hel'!O7 -> Sune Färdigh | F32: 11 | G32: ='LR-lista hel'!Q7 -> Kristoffer Kinberg | H32: 18 | I32: ='LR-lista hel'!S7 -> Inge Andersson | J32: 18 | K32: ='LR-lista hel'!U7 -> Mats Björk
A33: 2011 | B33: 5 | C33: ='LR-lista hel'!M8 -> Conny Nilsson | D33: 9 | E33: ='LR-lista hel'!O8 -> Ove Svedberg | F33: 15 | G33: ='LR-lista hel'!Q8 -> David Jantol | H33: 20 | I33: ='LR-lista hel'!S8 -> Inger Starman | J33: 12 | K33: ='LR-lista hel'!U8 -> Olle Jörneman
A34: 2012 | B34: 15 | C34: ='LR-lista hel'!M9 -> Johan Gliniecki | D34: 15 | E34: ='LR-lista hel'!O9 -> Reza Rezai | F34: 3 | G34: ='LR-lista hel'!Q9 -> Catherine Lundborg | H34: 14 | I34: ='LR-lista hel'!S9 -> Daniel Fornell | J34: 6 | K34: ='LR-lista hel'!U9 -> Håkan Jonsson
A35: 2013 | B35: 16 | C35: ='LR-lista hel'!M10 -> Johan Gliniecki | D35: 15 | E35: ='LR-lista hel'!O10 -> Linda Olsson | F35: 1 | G35: ='LR-lista hel'!Q10 -> Lena Berg | H35: 18 | I35: ='LR-lista hel'!S10 -> Inge Andersson | J35: 10 | K35: ='LR-lista hel'!U10 -> Linda Ohlsson
A36: 2014 | B36: 13 | C36: ='LR-lista hel'!M11 -> Mikael Gobbato | D36: 1 | E36: ='LR-lista hel'!O11 -> Hans Olsson | F36: 3 | G36: ='LR-lista hel'!Q11 -> Catherine Lundborg | H36: 16 | I36: ='LR-lista hel'!S11 -> Pekka Vailto | J36: 16 | K36: ='LR-lista hel'!U11 -> Tomas Johansson
A37: 2015 | B37: 11 | C37: ='LR-lista hel'!M12 -> Jonny Larsson | D37: 7 | E37: ='LR-lista hel'!O12 -> Roland Saniks | F37: 5 | G37: ='LR-lista hel'!Q12 -> Anders Almgren | H37: 6 | I37: ='LR-lista hel'!S12 -> Stig Simonsson | J37: 18 | K37: ='LR-lista hel'!U12 -> Mathias Schenkel
A38: 2016 | B38: 17 | C38: ='LR-lista hel'!M13 -> Martin Olofsson | D38: 11 | E38: ='LR-lista hel'!O13 -> Lars-Erik Staaf | F38: 7 | G38: ='LR-lista hel'!Q13 -> Gjore Petkovski | H38: 2 | I38: ='LR-lista hel'!S13 -> Lars Tharing | J38: 8 | K38: ='LR-lista hel'!U13 -> Sten Kristensen
A39: 2017 | B39: 17 | C39: ='LR-lista hel'!M14 -> Martin Olofsson | D39: 11 | E39: ='LR-lista hel'!O14 -> Lars-Erik Staaf | F39: 9 | G39: ='LR-lista hel'!Q14 -> Johan Rohman | H39: 20 | I39: ='LR-lista hel'!S14 -> Inger Starman | J39: 4 | K39: ='LR-lista hel'!U14 -> Mikael Ahlgren
A40: 2018 | B40: 17 | C40: ='LR-lista hel'!M15 -> Martin Olofsson | D40: 11 | E40: ='LR-lista hel'!O15 -> Lars-Erik Staaf | F40: 11 | G40: ='LR-lista hel'!Q15 -> Kristoffer Kinberg | H40: 18 | I40: ='LR-lista hel'!S15 -> Inge Andersson | J40: 2 | K40: ='LR-lista hel'!U15 -> Roger Nilsson
A41: 2019 | B41: ='LR-lista hel'!L16 -> 17 | C41: ='LR-lista hel'!M16 -> Martin Olofsson | D41: ='LR-lista hel'!N16 -> 11 | E41: ='LR-lista hel'!O16 -> Lars-Erik Staaf | F41: ='LR-lista hel'!P16 -> 15 | G41: ='LR-lista hel'!Q16 -> David Jantol | H41: ='LR-lista hel'!R16 -> 16 | I41: ='LR-lista hel'!S16 -> Pekka Vailto | ... K41: ='LR-lista hel'!U16 -> Peter Praetorius
A42: 2020 | B42: ='LR-lista hel'!L17 -> 17 | C42: ='LR-lista hel'!M17 -> Martin Olofsson | D42: ='LR-lista hel'!N17 -> 11 | E42: ='LR-lista hel'!O17 -> Lars-Erik Staaf | F42: ='LR-lista hel'!P17 -> 17 | G42: ='LR-lista hel'!Q17 -> Lars Forsman | H42: ='LR-lista hel'!R17 -> 14 | I42: ='LR-lista hel'!S17 -> Daniel Fornell | ... K42: ='LR-lista hel'!U17 -> M.Björk/P Pretorius
A43: 2021 | B43: ='LR-lista hel'!L18 -> 17 | C43: ='LR-lista hel'!M18 -> Martin Olofsson | D43: ='LR-lista hel'!N18 -> 11 | E43: ='LR-lista hel'!O18 -> Lars-Erik Staaf | F43: ='LR-lista hel'!P18 -> 15 | G43: ='LR-lista hel'!Q18 -> Martin Karlsson | H43: ='LR-lista hel'!R18 -> 4 | I43: ='LR-lista hel'!S18 -> Robert Eliasson | ... K43: ='LR-lista hel'!U18 -> Daniel/Malin Frid
A44: 2022 | B44: ='LR-lista hel'!L19 -> 17 | C44: ='LR-lista hel'!M19 -> Martin Olofsson | D44: ='LR-lista hel'!N19 -> 11 | E44: ='LR-lista hel'!O19 -> Lars-Erik Staaf | F44: ='LR-lista hel'!P19 -> 1 | G44: ='LR-lista hel'!Q19 -> Lena Berg | H44: ='LR-lista hel'!R19 -> 8 | I44: ='LR-lista hel'!S19 -> Beatrice Axelsson | ... K44: ='LR-lista hel'!U19 -> Daniel/Malin Frid
A45: 2023 | B45: ='LR-lista hel'!L20 -> 5 | C45: ='LR-lista hel'!M20 -> Anna Klimenko | D45: ='LR-lista hel'!N20 -> 11 | E45: ='LR-lista hel'!O20 -> Lars-Erik Staaf | F45: ='LR-lista hel'!P20 -> 5 | G45: ='LR-lista hel'!Q20 -> M. Tekcan/C L-borg | H45: ='LR-lista hel'!R20 -> 6 | I45: ='LR-lista hel'!S20 -> Stig Simonsson | ... K45: ='LR-lista hel'!U20 -> Tomas Wlnas
A46: 2024 | B46: ='LR-lista hel'!L21 -> 5 | C46: ='LR-lista hel'!M21 -> Anna Klimenko | D46: ='LR-lista hel'!N21 -> 11 | E46: ='LR-lista hel'!O21 -> Lars-Erik Staaf | F46: ='LR-lista hel'!P21 -> 13 | G46: ='LR-lista hel'!Q21 -> Kjell Kahn | H46: ='LR-lista hel'!R21 -> 6 | I46: ='LR-lista hel'!S21 -> Stig Simonsson | ... K46: ='LR-lista hel'!U21 -> Tomas Wlnas
A47: 2025 | B47: ='LR-lista hel'!L22 -> 7 | C47: ='LR-lista hel'!M22 -> Michael Säf | D47: ='LR-lista hel'!N22 -> 3 | E47: ='LR-lista hel'!O22 -> Filip Martinsson | F47: ='LR-lista hel'!P22 -> 7 | G47: ='LR-lista hel'!Q22 -> Gjore Petkovski | H47: ='LR-lista hel'!R22 -> 16 | I47: ='LR-lista hel'!S22 -> Pekka Vailto | ... K47: ='LR-lista hel'!U22 -> Andreas Skog
A48: 2026

Sheet Blad3
